BEGIN:VCALENDAR
VERSION:2.0
PRODID:-//ChamberMaster//Event Calendar 2.0//EN
METHOD:PUBLISH
X-PUBLISHED-TTL:P3D
REFRESH-INTERVAL:P3D
CALSCALE:GREGORIAN
BEGIN:VEVENT
DTSTART:20190123T000000Z
DTEND:20190123T010000Z
X-MICROSOFT-CDO-ALLDAYEVENT:FALSE
SUMMARY:Open house for teachers
DESCRIPTION:Come join us on January 22\, 2019 from 7-8pm and see how we can be a resource for you to help your students succeed in math!\n\n\n\nSnacks and drinks will be provided.\n\n\n\nPlease RSVP at: Bradenton@mathnasium.com\n\n\n\n \n\n\n\nhttps://www.mathnasium.com/bradenton
X-ALT-DESC;FMTTYPE=text/html:<div>\n<div><span style="font-family:inherit">Come join us on January 22\, 2019 from 7-8pm and see how we can be a resource for you to help your students succeed in math!</span></div>\n</div>\n\n<div>\n<div><span style="font-family:inherit">Snacks and drinks will be provided.</span></div>\n</div>\n\n<div>\n<div><span style="font-family:inherit">Please RSVP at: Bradenton@mathnasium.com</span></div>\n</div>\n\n<div>\n<div>&nbsp\;</div>\n</div>\n\n<div>\n<div><span style="font-family:inherit">https://www.mathnasium.com/bradenton</span></div>\n\n<div>&nbsp\;</div>\n</div>\n\n<div>&nbsp\;</div>\n
LOCATION:Mathnasium of Bradenton 6731 Manatee Avenue West\, Bradenton\, Florida 34209
UID:e.2475.24625
SEQUENCE:3
DTSTAMP:20260423T151044Z
URL:https://business.manateechamber.com/events/details/open-house-for-teachers-24625
END:VEVENT

END:VCALENDAR
