BEGIN:VCALENDAR
VERSION:2.0
PRODID:-//ChamberMaster//Event Calendar 2.0//EN
METHOD:PUBLISH
X-PUBLISHED-TTL:P3D
REFRESH-INTERVAL:P3D
CALSCALE:GREGORIAN
BEGIN:VEVENT
DTSTART:20191130T140000Z
DTEND:20191130T200000Z
X-MICROSOFT-CDO-ALLDAYEVENT:FALSE
SUMMARY:Orbans 29th Annual Poinsettia Open House
DESCRIPTION:Join us for our 29th Annual Open House. This is a FREE EVENT and a rare opportunity to come view\, purchase and take pictures in 12 acres of over 250\,000 poinsettias and annuals before they are shipped throughout the state. We will also have food trucks\, local honey/vegetables and crafts. If you're interested in becoming a vendor please call 941.792.8717.
X-ALT-DESC;FMTTYPE=text/html:Join us for our 29th Annual Open House. This is a FREE EVENT and a rare opportunity to come view\, purchase and take pictures in 12 acres of over 250\,000 poinsettias and annuals before they are shipped throughout the state. We will also have food trucks\, local honey/vegetables and crafts. If you&#39\;re interested in becoming a vendor please call 941.792.8717.
LOCATION:9607 9th Ave NW Bradenton Florida\, 34209
UID:e.2475.27370
SEQUENCE:3
DTSTAMP:20260420T104838Z
URL:https://business.manateechamber.com/events/details/orbans-29th-annual-poinsettia-open-house-27370
END:VEVENT

END:VCALENDAR
