BEGIN:VCALENDAR
VERSION:2.0
PRODID:-//ChamberMaster//Event Calendar 2.0//EN
METHOD:PUBLISH
X-PUBLISHED-TTL:P3D
REFRESH-INTERVAL:P3D
CALSCALE:GREGORIAN
BEGIN:VEVENT
DTSTART:20220517T130000Z
DTEND:20220517T200000Z
X-MICROSOFT-CDO-ALLDAYEVENT:FALSE
SUMMARY:OUTLOOK at SCF
DESCRIPTION:OUTLOOK at SCF\n\nMicrosoft's Outlook email program. Training covers setting up an email account\; composing\, sending\, and receiving emails\; email management\; working with contacts & calendars. Dive a little deeper with setting up rules\, quick steps\, tasks\, and to-do lists.\n\n\n\nREQUIREMENTS: Basic computer skills (file and folder management\, cut\, copy\, & paste\, etc.) are required to take this class. If you do not have these pre-requisite skills\, please register for our Computer Basics class.\n\nTuesday May 17\, 2022\n\n9am - 4pm\n\nFee: $129 per class\n\n\n\nRegister Here.
X-ALT-DESC;FMTTYPE=text/html:<p>OUTLOOK at SCF</p>\n\n<p>Microsoft&#39\;s Outlook email program. Training covers setting up an email account\; composing\, sending\, and receiving emails\; email management\; working with contacts &amp\; calendars. Dive a little deeper with setting up rules\, quick steps\, tasks\, and to-do lists.<br />\n<br />\nREQUIREMENTS:&nbsp\;Basic computer skills (file and folder management\, cut\, copy\, &amp\; paste\, etc.) are required to take this class. If you do not have these pre-requisite skills\, please register for our&nbsp\;<a href="https://scf.augusoft.net/index.cfm?method=ClassListing.ClassListingDisplay&amp\;int_category_id=18&amp\;int_sub_category_id=168&amp\;int_catalog_id=" rel="noopener" style="box-sizing: border-box\; color: rgb(10\, 169\, 255)\;" target="_blank">Computer Basics</a>&nbsp\;class.</p>\n\n<p>Tuesday May 17\, 2022</p>\n\n<p>9am - 4pm</p>\n\n<p>Fee: $129 per class<br />\n<br />\n<a href="https://scf.augusoft.net/index.cfm?method=ClassInfo.ClassInformation&amp\;int_class_id=14543&amp\;int_category_id=18&amp\;int_sub_category_id=102&amp\;int_catalog_id=0">Register Here.</a></p>\n
LOCATION:SCF Lakewood Ranch (CIT) 7131 Professional Pkwy E\, Sarasota\, FL\, USA I-75 to Exit 213 (University Pkwy). Head east on University Pkwy. Turn right (south) onto Lakewood Ranch Blvd. Turn left (east) at the 4-way stop onto Professional Pkwy E. SCF Lakewood Ranch is 1 mile down on the left. The CIT building is the Center for Innovation & Technology.
UID:e.2475.35396
SEQUENCE:3
DTSTAMP:20260422T135954Z
URL:https://business.manateechamber.com/events/details/outlook-at-scf-35396
END:VEVENT

END:VCALENDAR
