BEGIN:VCALENDAR
VERSION:2.0
PRODID:-//ChamberMaster//Event Calendar 2.0//EN
METHOD:PUBLISH
X-PUBLISHED-TTL:P3D
REFRESH-INTERVAL:P3D
CALSCALE:GREGORIAN
BEGIN:VEVENT
DTSTART:20160701T141500Z
DTEND:20160701T150000Z
X-MICROSOFT-CDO-ALLDAYEVENT:FALSE
SUMMARY:Partners in Play
DESCRIPTION:Drop in to enjoy special play time with your child\, meet friendly Parenting Educators and discover how we can help you enjoy parenting even more. Hands-on developmental age appropriate activities\, circle time fun\, make new friends and get valuable parenting information.
X-ALT-DESC;FMTTYPE=text/html:Drop in to enjoy special play time with your child\, meet friendly Parenting Educators and discover how we can help you enjoy parenting even more. Hands-on developmental age appropriate activities\, circle time fun\, make new friends and get valuable parenting information.
LOCATION:Braden River Library - 4915 53rd Avenue E Bradenton
UID:e.2475.7536
SEQUENCE:3
DTSTAMP:20260420T054358Z
URL:https://business.manateechamber.com/events/details/partners-in-play-07-01-2016-7536
END:VEVENT

END:VCALENDAR
