BEGIN:VCALENDAR
VERSION:2.0
PRODID:-//ChamberMaster//Event Calendar 2.0//EN
METHOD:PUBLISH
X-PUBLISHED-TTL:P3D
REFRESH-INTERVAL:P3D
CALSCALE:GREGORIAN
BEGIN:VEVENT
DTSTART:20160719T140000Z
DTEND:20160719T210000Z
X-MICROSOFT-CDO-ALLDAYEVENT:FALSE
SUMMARY:PATRICK O'NEILL\, Acrylics Artist\, Named July Featured Artist at Island Gallery W
DESCRIPTION:This July PATRICK O'NEILL will exhibit acrylic seascapes\, landscapes and wildlife paintings from coastline to countryside in an exhibit entitled "America the Beautiful." He may have been born in the city of Chicago\, but Pat's heart is in the seascapes\, landscapes\, fish and animals he paints with stunning realism. Pat grew up on a farm in Alabama before moving to Florida where he works in security at Sarasota's Ringling Museum. He still finds time for an impressive array of artistic creations from murals\, wood carving\, sculpting\, drawing\, as well as the fine art paintings he shows at Island Gallery West. The exhibit will run from July 1- 30 at Island Gallery West\, located at 5368 Gulf Dr.\, Holmes Beach\, FL\, Trolley Stop 15 on Anna Maria Island. Gallery hours are 10 AM-5 PM\, Mon.-Sat. Please visit www.islandgallerywest.com\, Facebook or call 941-778-6648 for gallery updates.
X-ALT-DESC;FMTTYPE=text/html:This July PATRICK O'NEILL will exhibit acrylic seascapes\, landscapes and wildlife paintings from coastline to countryside in an exhibit entitled "America the Beautiful." He may have been born in the city of Chicago\, but Pat's heart is in the seascapes\, landscapes\, fish and animals he paints with stunning realism. Pat grew up on a farm in Alabama before moving to Florida where he works in security at Sarasota's Ringling Museum. He still finds time for an impressive array of artistic creations from murals\, wood carving\, sculpting\, drawing\, as well as the fine art paintings he shows at Island Gallery West. The exhibit will run from July 1- 30 at Island Gallery West\, located at 5368 Gulf Dr.\, Holmes Beach\, FL\, Trolley Stop 15 on Anna Maria Island. Gallery hours are 10 AM-5 PM\, Mon.-Sat. Please visit www.islandgallerywest.com\, Facebook or call 941-778-6648 for gallery updates.
LOCATION:Island Gallery West\, 5368 Gulf Dr.\, Holmes Beach\, FL 34217
UID:e.2475.9039
SEQUENCE:3
DTSTAMP:20260420T041307Z
URL:https://business.manateechamber.com/events/details/patrick-o-neill-acrylics-artist-named-july-featured-artist-at-island-gallery-w-07-19-2016-9039
END:VEVENT

END:VCALENDAR
