BEGIN:VCALENDAR
VERSION:2.0
PRODID:-//ChamberMaster//Event Calendar 2.0//EN
METHOD:PUBLISH
X-PUBLISHED-TTL:P3D
REFRESH-INTERVAL:P3D
CALSCALE:GREGORIAN
BEGIN:VEVENT
DTSTART:20220730T230000Z
DTEND:20220731T010000Z
X-MICROSOFT-CDO-ALLDAYEVENT:FALSE
SUMMARY:Platinum Superstars: Trip Around the World-Follow the Yellow Brick Road
DESCRIPTION:Platinum Superstars Dance Factory presents Trip Around the World - Follow the Yellow Brick Road\n\n \n\nThis dance school performance is open to the public.\n\n \n\nTickets are for reserved seating and are $25 each.\n\n \n\nThe show duration is two hours and includes a 15-minute intermission.
X-ALT-DESC;FMTTYPE=text/html:<span style="font-size:14px"><span style="color:#050505"><span style="font-family:segoe ui historic\,sans-serif">Platinum Superstars Dance Factory presents <strong>Trip Around the World - Follow the Yellow Brick Road</strong></span></span><br />\n&nbsp\;<br />\n<span style="color:#050505"><span style="font-family:segoe ui historic\,sans-serif">This dance school performance is open to the public.</span></span><br />\n&nbsp\;<br />\n<span style="color:#050505"><span style="font-family:segoe ui historic\,sans-serif">Tickets are for reserved seating and are $25 each.</span></span><br />\n&nbsp\;<br />\n<span style="color:#050505"><span style="font-family:segoe ui historic\,sans-serif">The show duration is two hours and includes a 15-minute intermission.&nbsp\;</span></span></span>
LOCATION:Manatee Performing Arts Center 502 Third Avenue West Bradenton\, FL 34205 Additional FREE Parking 402 7th Street West Bradenton\, FL 34205
UID:e.2475.35857
SEQUENCE:3
DTSTAMP:20260422T162249Z
URL:https://business.manateechamber.com/events/details/platinum-superstars-trip-around-the-world-follow-the-yellow-brick-road-35857
END:VEVENT

END:VCALENDAR
