BEGIN:VCALENDAR
VERSION:2.0
PRODID:-//ChamberMaster//Event Calendar 2.0//EN
METHOD:PUBLISH
X-PUBLISHED-TTL:P3D
REFRESH-INTERVAL:P3D
CALSCALE:GREGORIAN
BEGIN:VEVENT
DTSTART:20241009T153000Z
DTEND:20241009T170000Z
X-MICROSOFT-CDO-ALLDAYEVENT:FALSE
SUMMARY:POSTPONED: 2024 October Headliners | 30 Years: State of the Ranch featuring Laura Cole
DESCRIPTION:POSTONED as of 10/5/24: New Date Will Be Announced\n\nLakewood Ranch\, the nationally award-winning master-planned community\, is celebrating its 30th year of building community and driving economic investment. With 33\,000+ acres\, Lakewood Ranch is already home to more than 60\,000 residents and more than 6 million square feet of commercial property in Manatee and Sarasota Counties. Schroeder-Manatee Ranch (SMR)\, the parent company of Lakewood Ranch\, has preserved over 40% of the land for conservation and parks\, which includes 10\,000 acres of lakes\,150 miles of trails and twelve parks.\n\n \n\nWhat does the future hold for Lakewood Ranch that will enhance our region and continue to be a catalyst for economic development? Join us in welcoming Lakewood Ranch's Laura Cole to share a perspective on 30 years of development and where the Ranch is headed for the next 30 years.\n\n\n\nLaura Cole oversees residential\, lifestyle\, and town center portfolios for Lakewood Ranch\, the nation's best-selling multi-generational community since 2018. Located in Sarasota and Manatee Counties\, Lakewood Ranch features 49\,000+ residential units and 6 million sq ft of mixed-use space\, including offices\, hotels\, shopping centers\, and town centers. She has a B.S. in Urban Development from the University of Arizona and serves as Chair of Mission Advancement for ULI Tampa Bay and is a member of ULIs Community Development Council Gold. \n\n\n\n---------------------------\n\nPlease note that this event has been rescheduled from September. As a result\, there will no longer be a Chamber Headliners luncheon in September. If you previously registered for the September luncheon\, please contact Carey Miller using the contact information provided on the right to confirm or cancel your October luncheon registration. We apologize for any inconvenience this may cause and appreciate your understanding.
X-ALT-DESC;FMTTYPE=text/html:<p><span style="color:#FF0000\;"><span style="font-size: 14px\;"><span style="font-family: arial\;">POSTONED as of 10/5/24: New Date Will Be Announced</span></span></span></p>\n\n<p><span style="color: rgb(0\, 0\, 0)\; font-size: 14px\;"><span style="font-family: arial\;">Lakewood Ranch\, the nationally award-winning master-planned community\, is celebrating its 30th year of building community and driving economic investment. With 33\,000+ acres\, Lakewood Ranch is already home to more than 60\,000 residents and more than 6 million square feet of commercial property in Manatee and Sarasota Counties.&nbsp\;Schroeder-Manatee Ranch (SMR)\, the parent company of Lakewood Ranch\, has preserved over 40% of the land for conservation and parks\, which includes 10\,000 acres of lakes\,150 miles of trails and twelve parks.<br />\n&nbsp\;<br />\nWhat does the future hold for Lakewood Ranch that will enhance our region and continue to be a catalyst for economic development? Join us in welcoming Lakewood Ranch&rsquo\;s Laura Cole to share a perspective on 30 years of development and where the Ranch is headed for the next 30 years<span style="background-image: initial\; background-position: initial\; background-size: initial\; background-repeat: initial\; background-attachment: initial\; background-origin: initial\; background-clip: initial\;">.</span></span></span><br style="color: rgb(0\, 0\, 0)\;" />\n<br style="color: rgb(0\, 0\, 0)\;" />\n<span style="color: rgb(0\, 0\, 0)\; font-family: arial\, sans-serif\;"><span style="font-size: 10pt\;"><span style="font-size: 14px\;"><span style="font-family: arial\;">Laura Cole oversees residential\, lifestyle\, and town center portfolios for Lakewood Ranch\, the nation&#39\;s best-selling multi-generational community since 2018. Located in Sarasota and Manatee Counties\, Lakewood Ranch features 49\,000+ residential units and 6 million sq ft of mixed-use space\, including offices\, hotels\, shopping centers\, and town centers. She has a B.S. in Urban Development from the University of Arizona and serves as Chair of Mission Advancement for ULI Tampa Bay and is a member of ULIs Community Development Council Gold.&nbsp\;</span></span></span></span><br />\n<br />\n<span style="font-size:11px\;">---------------------------<br />\nPlease note that this event has been rescheduled from September. As a result\, there will no longer be a Chamber Headliners luncheon in September. If you previously registered for the September luncheon\, please contact Carey Miller using the contact information provided on the right to confirm or cancel your October luncheon registration. We apologize for any inconvenience this may cause and appreciate your understanding.</span></p>\n
LOCATION:Lakewood Ranch Golf & Country Club 7650 Legacy Blvd Lakewood Ranch\, FL 34202
UID:e.2475.45891
SEQUENCE:3
DTSTAMP:20260420T054743Z
URL:https://business.manateechamber.com/events/details/postponed-2024-october-headliners-30-years-state-of-the-ranch-featuring-laura-cole-45891
END:VEVENT

END:VCALENDAR
