BEGIN:VCALENDAR
VERSION:2.0
PRODID:-//ChamberMaster//Event Calendar 2.0//EN
METHOD:PUBLISH
X-PUBLISHED-TTL:P3D
REFRESH-INTERVAL:P3D
CALSCALE:GREGORIAN
BEGIN:VEVENT
DTSTART:20220513T130000Z
DTEND:20220523T020000Z
X-MICROSOFT-CDO-ALLDAYEVENT:FALSE
SUMMARY:PRIVATE INVESTIGATOR 40-HOUR COURSE - SCF Venice
DESCRIPTION:PRIVATE INVESTIGATOR 40-HOUR COURSE - SCF Venice\n\nThis class is the first step in becoming a Private Investigator in Florida. It fulfills the 40 hours of professional training pertaining to general investigative techniques that is required when applying for your Private Investigator Class CC Intern license. The purpose of this program is to prepare students for employment as "CC" Private Investigator Interns (SOC 33-9021) in accordance with the requirements of the Florida Department of Agriculture and Consumer Services (FDACS) Chapter 493\, Florida Statutes (F.S.)\, Chapter 5N-1 of the Florida Administrative Code (F.A.C.) and the curriculum of the Florida Department of Education. Reinforcement of basic skills in language\, reading and writing\, appropriate for the job is provided through preparatory classroom instruction.\n\n \n\nThis program focuses on basic\, transferable skills\, and stresses understanding and demonstration of elements of the protective service occupations\, such as: aspects of criminology\, court demeanor\, interviewing skills and the regulations of Chapter 493\, Florida Statutes (F.S.) along with information related to employment skills needed for security guards\, executive protection (bodyguard)\, repossession agents\, skip tracers\, and background investigations.\n\n \n\nUpon successful completion of the mandated 40-hour class\, students will receive a certificate which should be submitted with the Class CC intern license application. It will be the student's responsibility to secure an internship with a licensed Private Investigative Agency. State College of Florida (SCF) does not guarantee placement for any student/intern.\n\nFriday - Sunday\n\nMay 13\, 14\, 15 and 20\, 21\, and 22\, 2022\n\nFriday 6pm - 10pm\; Saturday and Sunday 9am - 5pm\n\nFee: $395 per person\n\n\n\nRegister Here.
X-ALT-DESC;FMTTYPE=text/html:<p>PRIVATE INVESTIGATOR 40-HOUR COURSE - SCF Venice</p>\n\n<p>This class is the first step in becoming a Private Investigator in Florida. It fulfills the 40 hours of professional training pertaining to general investigative techniques that is required when applying for your Private Investigator&nbsp\;Class CC&nbsp\;Intern license. The purpose of this program is to prepare students for employment as &quot\;CC&quot\; Private Investigator Interns (SOC 33-9021) in accordance with the requirements of the Florida Department of Agriculture and Consumer Services (FDACS)&nbsp\;<a href="http://www.leg.state.fl.us/statutes/index.cfm?App_mode=Display_Statute&amp\;URL=0400-0499/0493/0493.html" rel="noopener" style="box-sizing: border-box\; color: rgb(10\, 169\, 255)\;" target="_blank">Chapter 493</a>\, Florida Statutes (F.S.)\, Chapter 5N-1 of the Florida Administrative Code (F.A.C.) and the curriculum of the Florida Department of Education. Reinforcement of basic skills in language\, reading and writing\, appropriate for the job is provided through preparatory classroom instruction.<br />\n&nbsp\;<br />\nThis program focuses on basic\, transferable skills\, and stresses understanding and demonstration of elements of the protective service occupations\, such as: aspects of criminology\, court demeanor\, interviewing skills and the regulations of Chapter 493\, Florida Statutes (F.S.) along with information related to employment skills needed for security guards\, executive protection (bodyguard)\, repossession agents\, skip tracers\, and background investigations.<br />\n&nbsp\;<br />\nUpon successful completion of the mandated 40-hour class\, students will receive a certificate which should be submitted with the Class CC intern license application. It will be the student&rsquo\;s responsibility to secure an internship with a licensed Private Investigative Agency.&nbsp\;State College of Florida (SCF) does not guarantee placement for any student/intern.</p>\n\n<p>Friday - Sunday</p>\n\n<p>May 13\, 14\, 15 and 20\, 21\, and 22\, 2022</p>\n\n<p>Friday 6pm - 10pm\; Saturday and Sunday 9am - 5pm</p>\n\n<p>Fee: $395 per person<br />\n<br />\n<a href="https://scf.augusoft.net/index.cfm?method=ClassInfo.ClassInformation&amp\;int_class_id=14570&amp\;int_category_id=3&amp\;int_sub_category_id=14&amp\;int_catalog_id=0">Register Here.</a></p>\n
LOCATION:SCF Venice (Building 800) 8000 S Tamiami Trail Building 800 - Professional Development Center Venice\, FL 34293
UID:e.2475.35390
SEQUENCE:3
DTSTAMP:20260422T140718Z
URL:https://business.manateechamber.com/events/details/private-investigator-40-hour-course-scf-venice-35390
END:VEVENT

END:VCALENDAR
