BEGIN:VCALENDAR
VERSION:2.0
PRODID:-//ChamberMaster//Event Calendar 2.0//EN
METHOD:PUBLISH
X-PUBLISHED-TTL:P3D
REFRESH-INTERVAL:P3D
CALSCALE:GREGORIAN
BEGIN:VEVENT
DTSTART:20190106T153000Z
DTEND:20190127T213000Z
X-MICROSOFT-CDO-ALLDAYEVENT:FALSE
SUMMARY:Rainforest Mask Exhibit at Selby Gardens
DESCRIPTION:Transport yourself to tropical Costa Rica as you wander through the Rainforest Mask sale and exhibit at Selby Gardens. The masks return for the 15th consecutive year to enchant locals and art enthusiasts with over 300 original pieces by indigenous Borucan artists. Between January 6th and 13th\, meet Esteban and Marcos\, the two visiting artists as they demonstrate their carving and painting skills. Stop by from 10 a.m. to 4:30 p.m. January 6-27\, 2019 at Marie Selby Botanical Gardens\, 900 S. Palm Ave.\, Sarasota\, FL\; Free with general admission of $20 ($10 for member guests and youths age 4-17)\; 941-366-5731\; selby.org
X-ALT-DESC;FMTTYPE=text/html:Transport yourself to tropical Costa Rica as you wander through the Rainforest Mask sale and exhibit at Selby Gardens. The masks return for the 15th consecutive year to enchant locals and art enthusiasts with over 300 original pieces by indigenous Borucan artists. Between January 6th and 13th\, meet Esteban and Marcos\, the two visiting artists as they demonstrate their carving and painting skills. Stop by from 10 a.m. to 4:30 p.m. January 6-27\, 2019 at Marie Selby Botanical Gardens\, 900 S. Palm Ave.\, Sarasota\, FL\; Free with general admission of $20 ($10 for member guests and youths age 4-17)\; 941-366-5731\; selby.org
LOCATION:Marie Selby Botanical Gardens 900 S. Palm Ave. Sarasota\, FL 34236
UID:e.2475.24506
SEQUENCE:3
DTSTAMP:20260423T150656Z
URL:https://business.manateechamber.com/events/details/rainforest-mask-exhibit-at-selby-gardens-24506
END:VEVENT

END:VCALENDAR
