BEGIN:VCALENDAR
VERSION:2.0
PRODID:-//ChamberMaster//Event Calendar 2.0//EN
METHOD:PUBLISH
X-PUBLISHED-TTL:P3D
REFRESH-INTERVAL:P3D
CALSCALE:GREGORIAN
BEGIN:VEVENT
DTSTART:20220604T220000Z
DTEND:20220605T000000Z
X-MICROSOFT-CDO-ALLDAYEVENT:FALSE
SUMMARY:Reflex on the Wild Side
DESCRIPTION:This is the spring recital for the Reflex Arts Dance Company.\n\nIt is a ticketed event open to the public
X-ALT-DESC;FMTTYPE=text/html:<p><span style="font-size:14px"><span style="font-family:verdana">This is the spring recital for the Reflex Arts Dance Company.<br />\nIt is a ticketed event open to the public</span></span></p>\n
LOCATION:Manatee Performing Arts Center 502 Third Avenue West Bradenton\, FL 34205 The performance will be in Stone Hall at the performing arts center. Additional FREE Parking 402 7th Street West Bradenton\, FL 34205
UID:e.2475.34963
SEQUENCE:3
DTSTAMP:20260422T140215Z
URL:https://business.manateechamber.com/events/details/reflex-on-the-wild-side-06-04-2022-34963
END:VEVENT

END:VCALENDAR
