BEGIN:VCALENDAR
VERSION:2.0
PRODID:-//ChamberMaster//Event Calendar 2.0//EN
METHOD:PUBLISH
X-PUBLISHED-TTL:P3D
REFRESH-INTERVAL:P3D
CALSCALE:GREGORIAN
BEGIN:VEVENT
DTSTART:20181217T220000Z
DTEND:20181218T010000Z
X-MICROSOFT-CDO-ALLDAYEVENT:FALSE
SUMMARY:Siriusly Holiday - with Sirius Day Spa
DESCRIPTION:Ladies and Gents Sirius Holiday Mixer  - Sirius Day Spa\n\nCo-presented by Carol Prokap of PRP International Wines\n\n \n\nMonday December 17th 5-8pm\n\n11585 East State Road 70\n\nLakewood Ranch\n\n \n\nPamper yourself with mini spa services including Massage\, Facials\, Treatments\, Mani/Pedis and more!\n\n \n\nSample hors d'oeuvres\, fine wine and treat yourself to a special gift.  Memberships and gift card specials \n\n \n\nCall  941.357.4611 or email asimard@siriusdayspa.com\n\nText 941.500.4431 to schedule/reserve your spot today
X-ALT-DESC;FMTTYPE=text/html:<p style="margin-left:0px\; margin-right:0px\; text-align:center"><strong>Ladies and Gents Sirius Holiday Mixer&nbsp\; - Sirius Day Spa</strong></p>\n\n<p style="margin-left:0px\; margin-right:0px\; text-align:center"><strong><em>Co-presented by Carol Prokap of PRP International Wines</em></strong></p>\n\n<p style="margin-left:0px\; margin-right:0px\; text-align:center">&nbsp\;</p>\n\n<p style="margin-left:0px\; margin-right:0px\; text-align:center"><strong>Monday December 17th 5-8pm</strong></p>\n\n<p style="margin-left:0px\; margin-right:0px\; text-align:center"><strong>11585 East State Road 70</strong></p>\n\n<p style="margin-left:0px\; margin-right:0px\; text-align:center"><strong>Lakewood Ranch</strong></p>\n\n<p style="margin-left:0px\; margin-right:0px\; text-align:center">&nbsp\;</p>\n\n<p style="margin-left:0px\; margin-right:0px\; text-align:center"><span style="color:rgb(0\, 0\, 0)">Pamper yourself with mini spa services including Massage\, Facials\, Treatments\, Mani/Pedis and more!</span></p>\n\n<p style="margin-left:0px\; margin-right:0px\; text-align:center">&nbsp\;</p>\n\n<p style="margin-left:0px\; margin-right:0px\; text-align:center"><span style="color:rgb(0\, 0\, 0)">Sample hors d&#39\;oeuvres\, fine wine and treat yourself to a special gift.&nbsp\; Memberships and gift card specials </span></p>\n\n<p style="margin-left:0px\; margin-right:0px\; text-align:center">&nbsp\;</p>\n\n<p style="margin-left:0px\; margin-right:0px\; text-align:center"><strong>Call&nbsp\;</strong><strong> 941.357.4611 </strong><strong>or email asimard@siriusdayspa.com</strong></p>\n\n<p style="margin-left:0px\; margin-right:0px\; text-align:center"><strong>Text </strong><strong>941.500.4431</strong><strong> to schedule/reserve your spot today</strong></p>\n
LOCATION:Sirius Day Spa 11585 East State Road 70 Lakewood Ranch\, Fl 34202
UID:e.2475.24235
SEQUENCE:3
DTSTAMP:20260423T150954Z
URL:https://business.manateechamber.com/events/details/s-12-17-2018-24235
END:VEVENT

END:VCALENDAR
