BEGIN:VCALENDAR
VERSION:2.0
PRODID:-//ChamberMaster//Event Calendar 2.0//EN
METHOD:PUBLISH
X-PUBLISHED-TTL:P3D
REFRESH-INTERVAL:P3D
CALSCALE:GREGORIAN
BEGIN:VEVENT
DTSTART:20191114T223000Z
DTEND:20191115T013000Z
X-MICROSOFT-CDO-ALLDAYEVENT:FALSE
SUMMARY:Sangria + Spanish Guitar Thursdays at Wine-O
DESCRIPTION:Sangria + Spanish Guitar Thursdays at Wine-O Bar Every Thursday starting May 9\, from 6:30-8:30 p.m. Starting Thursday\, May 9\, La Concha Hotel & Spa invites locals and summer travelers alike to Sangria Partido every Thursday from 6:30-8:30 p.m. La Concha Hotel & Spa?s Sangria Partido offers guests the sweet flavors of summertime with a signature sangria served alongside tapas specials. Visitors sip and savor while listening to live music played by Mateo Jampol on his Spanish guitar\, and indulging in the funky\, contemporary decor of Wine-O Bar and its comfortable service.
X-ALT-DESC;FMTTYPE=text/html:Sangria + Spanish Guitar Thursdays at Wine-O Bar Every Thursday starting May 9\, from 6:30-8:30 p.m. Starting Thursday\, May 9\, La Concha Hotel &amp\; Spa invites locals and summer travelers alike to Sangria Partido every Thursday from 6:30-8:30 p.m. La Concha Hotel &amp\; Spa?s Sangria Partido offers guests the sweet flavors of summertime with a signature sangria served alongside tapas specials. Visitors sip and savor while listening to live music played by Mateo Jampol on his Spanish guitar\, and indulging in the funky\, contemporary decor of Wine-O Bar and its comfortable service.
LOCATION:La Concha Hotel & Spa
UID:e.2475.26377
SEQUENCE:3
DTSTAMP:20260420T110304Z
URL:https://business.manateechamber.com/events/details/sangria-spanish-guitar-thursdays-at-wine-o-11-14-2019-26377
END:VEVENT

END:VCALENDAR
