BEGIN:VCALENDAR
VERSION:2.0
PRODID:-//ChamberMaster//Event Calendar 2.0//EN
METHOD:PUBLISH
X-PUBLISHED-TTL:P3D
REFRESH-INTERVAL:P3D
CALSCALE:GREGORIAN
BEGIN:VEVENT
DTSTART:20210924T123000Z
DTEND:20210924T190000Z
X-MICROSOFT-CDO-ALLDAYEVENT:FALSE
SUMMARY:SCF - Leadership Bootcamp - via ZOOM
DESCRIPTION:SCF - Leadership Bootcamp - The Workshop for the Savvy Professional\n\nA workshop for enlightened leaders. Participants will enhance leadership skills\, expand communication techniques\, master laser-focus positive actions\, manage time more effectively\, and spike personal effectiveness to deliver world-class results. Facilitated by Doug Van Dyke\, CEO of Leadership Simplified.\n\n\n\nAgenda highlights include but are not limited to:\n\n\n\n	Priority Management\n	Communication Skills\n	Collaboration Tools\n	Time Management\n\n\n\n\n\n	Delegation\n	Presentation Skills\n	Effective Meetings\n	Motivation & Celebration\n\n\n\nSpecial Note: This class will be facilitated remotely via ZOOM. The instructor will send you a link to join the training.
X-ALT-DESC;FMTTYPE=text/html:SCF - Leadership Bootcamp - The Workshop for the Savvy Professional<br />\n<span style="color:rgb(79\, 79\, 79)\; font-family:arial\,helvetica\,sans-serif\; font-size:12px"><span style="font-family:arial\,helvetica\,sans-serif">A workshop for enlightened leaders. Participants will enhance leadership skills\, expand communication techniques\, master laser-focus positive actions\, manage time more effectively\, and spike personal effectiveness to deliver world-class results. Facilitated by Doug Van Dyke\, CEO of Leadership Simplified.<br />\n<br />\n<strong>Agenda highlights include but are not limited to:</strong></span></span>\n<div style="margin-left:-10px\; margin-right:-10px">\n<div>\n<ul>\n	<li><span style="font-size:12px"><span style="font-family:arial\,helvetica\,sans-serif">Priority Management</span></span></li>\n	<li><span style="font-size:12px"><span style="font-family:arial\,helvetica\,sans-serif">Communication Skills</span></span></li>\n	<li><span style="font-size:12px"><span style="font-family:arial\,helvetica\,sans-serif">Collaboration Tools</span></span></li>\n	<li><span style="font-size:12px"><span style="font-family:arial\,helvetica\,sans-serif">Time Management</span></span></li>\n</ul>\n</div>\n\n<div>\n<ul>\n	<li><span style="font-size:12px"><span style="font-family:arial\,helvetica\,sans-serif">Delegation</span></span></li>\n	<li><span style="font-size:12px"><span style="font-family:arial\,helvetica\,sans-serif">Presentation Skills</span></span></li>\n	<li><span style="font-size:12px"><span style="font-family:arial\,helvetica\,sans-serif">Effective Meetings</span></span></li>\n	<li><span style="font-size:12px"><span style="font-family:arial\,helvetica\,sans-serif">Motivation &amp\; Celebration</span></span></li>\n</ul>\n</div>\n</div>\n<span style="color:rgb(255\, 0\, 0)\; font-family:arial\,helvetica\,sans-serif\; font-size:12px"><strong>Special Note:&nbsp\;</strong><strong>This class will be facilitated remotely via ZOOM. The instructor</strong></span><strong><span style="color:rgb(255\, 0\, 0)">&nbsp\;will send you a link to join the training.</span></strong>
LOCATION:This class will be facilitated remotely via ZOOM. The instructor will send you a link to join the training.
UID:e.2475.32759
SEQUENCE:3
DTSTAMP:20260419T150145Z
URL:https://business.manateechamber.com/events/details/scf-leadership-bootcamp-via-zoom-32759
END:VEVENT

END:VCALENDAR
