BEGIN:VCALENDAR
VERSION:2.0
PRODID:-//ChamberMaster//Event Calendar 2.0//EN
METHOD:PUBLISH
X-PUBLISHED-TTL:P3D
REFRESH-INTERVAL:P3D
CALSCALE:GREGORIAN
BEGIN:VEVENT
DTSTART:20191105T150000Z
DTEND:20191106T020000Z
X-MICROSOFT-CDO-ALLDAYEVENT:FALSE
SUMMARY:SCF Parrish Sneak Peak - 10 free classes
DESCRIPTION:SCF has announced its expansion into Parrish with a groundbreaking in 2020. \n\n\n\nAs a sneak peek into SCF for Parrish residents\, SCF will hold 10 free short enrichment classes in Parrish on November 5 at the Parrish YMCA. \n\n\n\nThese are free and open to the public and no RSVP is required.
X-ALT-DESC;FMTTYPE=text/html:SCF has announced its expansion into Parrish with a groundbreaking in 2020.&nbsp\;<br />\n<br />\nAs a sneak peek into SCF for Parrish residents\, SCF will hold 10 free short enrichment classes in Parrish on November 5 at the Parrish YMCA.&nbsp\;<br />\n<br />\nThese are free and open to the public and no RSVP is required.&nbsp\;&nbsp\;
LOCATION:Parrish YMCA
UID:e.2475.27377
SEQUENCE:3
DTSTAMP:20260420T093038Z
URL:https://business.manateechamber.com/events/details/scf-parrish-sneak-peak-10-free-classes-27377
END:VEVENT

END:VCALENDAR
