BEGIN:VCALENDAR
VERSION:2.0
PRODID:-//ChamberMaster//Event Calendar 2.0//EN
METHOD:PUBLISH
X-PUBLISHED-TTL:P3D
REFRESH-INTERVAL:P3D
CALSCALE:GREGORIAN
BEGIN:VEVENT
DTSTART:20220813T210000Z
DTEND:20220814T030000Z
X-MICROSOFT-CDO-ALLDAYEVENT:FALSE
SUMMARY:STREET HEAT
DESCRIPTION:Come join us for our next event! STREET HEAT presented by Florida Street Scene! ROLL RACING   CAR MEET   DRAG RACING
X-ALT-DESC;FMTTYPE=text/html:<span style="font-size:16px\;"><span style="font-family:verdana\;">Come join us for our next event! STREET HEAT presented by Florida Street Scene! ROLL RACING &bull\; CAR MEET &bull\; DRAG RACING&nbsp\;</span></span>
LOCATION:BRADENTON MOTORSPORTS PARK 21000 E State Road 64\, Bradenton\, Florida 34212
UID:e.2475.39325
SEQUENCE:3
DTSTAMP:20260419T193634Z
URL:https://business.manateechamber.com/events/details/street-heat-39325
END:VEVENT

END:VCALENDAR
