BEGIN:VCALENDAR
VERSION:2.0
PRODID:-//ChamberMaster//Event Calendar 2.0//EN
METHOD:PUBLISH
X-PUBLISHED-TTL:P3D
REFRESH-INTERVAL:P3D
CALSCALE:GREGORIAN
BEGIN:VEVENT
DTSTART:20181122T160000Z
DTEND:20181122T210000Z
X-MICROSOFT-CDO-ALLDAYEVENT:FALSE
SUMMARY:Thanksgiving Brunch at Zota Beach Resort
DESCRIPTION:Viento Kitchen + Bar\, the signature restaurant of Zota Beach Resort\, welcomes locals and guests to spend Thanksgiving Day along the powder soft beaches and turquoise waters of unspoiled Longboat Key. Created by Chef Jeremy White\, guests enjoy a special brunch buffet featuring a chef carving of roasted turkey breast and honey baked ham\, smoked salmon display\, grilled lemon pepper chicken\, chilled seafood bar and chef attended omelet station. Linked here is the complete list of menu options. Viento's Thanksgiving Brunch is priced at $49.95 for adults and $24.95 for children ages 4-11 years old. A full bar will be available and bottomless mimosas can be added for $10 per person. Reservations are required and can be made by calling 941.248.1207.
X-ALT-DESC;FMTTYPE=text/html:Viento Kitchen + Bar\, the signature restaurant of Zota Beach Resort\, welcomes locals and guests to spend Thanksgiving Day along the powder soft beaches and turquoise waters of unspoiled Longboat Key. Created by Chef Jeremy White\, guests enjoy a special brunch buffet featuring a chef carving of roasted turkey breast and honey baked ham\, smoked salmon display\, grilled lemon pepper chicken\, chilled seafood bar and chef attended omelet station. Linked here is the complete list of menu options. Viento&rsquo\;s Thanksgiving Brunch is priced at $49.95 for adults and $24.95 for children ages 4-11 years old. A full bar will be available and bottomless mimosas can be added for $10 per person. Reservations are required and can be made by calling 941.248.1207.
LOCATION:Zota Beach Resort 4711 GULF OF MEXICO DRIVE\, LONGBOAT KEY\, FLORIDA 34228
UID:e.2475.24169
SEQUENCE:3
DTSTAMP:20260423T165351Z
URL:https://business.manateechamber.com/events/details/thanksgiving-brunch-at-zota-beach-resort-24169
END:VEVENT

END:VCALENDAR
