BEGIN:VCALENDAR
VERSION:2.0
PRODID:-//ChamberMaster//Event Calendar 2.0//EN
METHOD:PUBLISH
X-PUBLISHED-TTL:P3D
REFRESH-INTERVAL:P3D
CALSCALE:GREGORIAN
BEGIN:VEVENT
DTSTART;VALUE=DATE:20191110
DTEND;VALUE=DATE:20191111
TRANSP:TRANSPARENT
X-MICROSOFT-CDO-ALLDAYEVENT:TRUE
SUMMARY:The First Tee of Sarasota/Manatee Birdies\, Brews & BBQ
DESCRIPTION:The First Tee community and their friends gather for a relaxed day of golf\, games\, great BBQ and\n\ncold brews  even some live music. We want to celebrate The First Tee\, raise awareness\, along with\n\nsome funds to support our continued effort to teach the Nine Core Values\, Nine Healthy Habits and\n\nimportant Life Skills.
X-ALT-DESC;FMTTYPE=text/html:The First Tee community and their friends gather for a relaxed day of golf\, games\, great BBQ and<br />\ncold brews&hellip\; even some live music. We want to celebrate The First Tee\, raise awareness\, along with<br />\nsome funds to support our continued effort to teach the Nine Core Values\, Nine Healthy Habits and<br />\nimportant Life Skills.
LOCATION:Serenoa Golf Club 6773 Serenoa Dr #9276\, Sarasota\, FL 34241
UID:e.2475.27218
SEQUENCE:3
DTSTAMP:20260420T094616Z
URL:https://business.manateechamber.com/events/details/the-first-tee-of-sarasota-manatee-birdies-brews-bbq-27218
END:VEVENT

END:VCALENDAR
