BEGIN:VCALENDAR
VERSION:2.0
PRODID:-//ChamberMaster//Event Calendar 2.0//EN
METHOD:PUBLISH
X-PUBLISHED-TTL:P3D
REFRESH-INTERVAL:P3D
CALSCALE:GREGORIAN
BEGIN:VEVENT
DTSTART;VALUE=DATE:20160720
DTEND;VALUE=DATE:20160721
TRANSP:TRANSPARENT
X-MICROSOFT-CDO-ALLDAYEVENT:TRUE
SUMMARY:The Generous Pour Wine Event
DESCRIPTION:The Generous Pour - 8th Annual Summer Wine Event\n\nRebels\, Rule Breakers & Game Changers - $28 Wine Tasting with Purchase of Entree\n\nThis year's Generous Pour is a tribute to some of the boldest\, risk-taking winemakers in the world and the wines have set new benchmarks.  Wines being poured this summer are:\n\n2013 Stellina Di Notte Pinot Grigio\n\n2014 Provenance Rutherford Sauvignon Blanc\n\n2013 Chateau St. Jean Alexander Valley Chardonnay\n\n2013 Lyric by Etude Pinot Noir\n\n2013 Penfolds Bin 2 Shiraz Mataro\n\n2012 Beaulieu Vineyard Reserve Tapestry Red Wine\n\n2012 Stags' Leap "The Leap" Cabernet Sauvignon
X-ALT-DESC;FMTTYPE=text/html:The Generous Pour - 8th Annual Summer Wine Event<br />\nRebels\, Rule Breakers &amp\; Game Changers - $28 Wine Tasting with Purchase of Entree<br />\nThis year&#39\;s Generous Pour is a tribute to some of the boldest\, risk-taking winemakers in the world and the wines have set new&nbsp\;benchmarks.&nbsp\; Wines being poured this summer are:<br />\n2013 Stellina Di Notte Pinot Grigio<br />\n2014 Provenance Rutherford&nbsp\;Sauvignon Blanc<br />\n2013 Chateau St. Jean Alexander Valley&nbsp\;Chardonnay<br />\n2013 Lyric by Etude&nbsp\;Pinot Noir<br />\n2013 Penfolds Bin 2 Shiraz Mataro<br />\n2012 Beaulieu Vineyard Reserve Tapestry Red Wine<br />\n2012 Stags&#39\; Leap &quot\;The Leap&quot\; Cabernet Sauvignon<br />\n<br />\n&nbsp\;
LOCATION:The Capital Grille at UTC 180 University Town Center Dr. Sarasota\, FL 34243
UID:e.2475.8970
SEQUENCE:3
DTSTAMP:20260420T041033Z
URL:https://business.manateechamber.com/events/details/the-generous-pour-wine-event-07-20-2016-8970
END:VEVENT

END:VCALENDAR
