BEGIN:VCALENDAR
VERSION:2.0
PRODID:-//ChamberMaster//Event Calendar 2.0//EN
METHOD:PUBLISH
X-PUBLISHED-TTL:P3D
REFRESH-INTERVAL:P3D
CALSCALE:GREGORIAN
BEGIN:VEVENT
DTSTART:20260521T170000Z
DTEND:20260521T180000Z
X-MICROSOFT-CDO-ALLDAYEVENT:FALSE
SUMMARY:Toddler Story Time
DESCRIPTION:Toddler Story Time at Canvas & Clay!\n\n\n\nJoin us every 3rd Thursday of the month at 1 PM for a fun and creative Toddler Story Time!\n\n\n\n \n\n\n? We'll read a toddler-friendly book and paint a themed pottery piece   perfect for little hands and big imaginations. Just $10 per child (includes pottery\, paint\, and firing).\n\n \n\nCanvas & Clay Art Studio - 839 8th Ave W Palmetto FL 34221\n\n\n\nSpots are limited call to reserve your spot 941-212-6943. \n\n\n\nLet's make story time magical!
X-ALT-DESC;FMTTYPE=text/html:<div>\n<div><span style="font-family:inherit">Toddler Story Time at Canvas &amp\; Clay!</span></div>\n</div>\n\n<div>\n<div><span style="font-family:inherit">Join us every 3rd Thursday of the month at 1 PM for a fun and creative Toddler Story Time!</span></div>\n</div>\n\n<div>\n<div>&nbsp\;</div>\n</div>\n\n<div><span style="font-family:inherit">? We&rsquo\;ll read a toddler-friendly book and paint a themed pottery piece &mdash\; perfect for little hands and big imaginations. Just $10 per child (includes pottery\, paint\, and firing).</span><br />\n&nbsp\;\n<div>\n<div><span style="font-family:inherit">Canvas &amp\; Clay Art Studio - 839 8th Ave W Palmetto FL 34221</span></div>\n</div>\n\n<div>\n<div><span style="font-family:inherit">Spots are limited call to reserve your spot 941-212-6943. </span></div>\n</div>\n\n<div>\n<div><span style="font-family:inherit">Let&rsquo\;s make story time magical!</span></div>\n</div>\n\n<div>\n<div>&nbsp\;</div>\n</div>\n\n<div>&nbsp\;</div>\n</div>\n
LOCATION:Canvas & Clay Art Studio - 839 8th Ave W Palmetto FL 34221
UID:e.2475.52816
SEQUENCE:3
DTSTAMP:20260421T135130Z
URL:https://business.manateechamber.com/events/details/toddler-story-time-05-21-2026-52816
END:VEVENT

END:VCALENDAR
