BEGIN:VCALENDAR
VERSION:2.0
PRODID:-//ChamberMaster//Event Calendar 2.0//EN
METHOD:PUBLISH
X-PUBLISHED-TTL:P3D
REFRESH-INTERVAL:P3D
CALSCALE:GREGORIAN
BEGIN:VEVENT
DTSTART:20220830T223000Z
DTEND:20220831T040000Z
X-MICROSOFT-CDO-ALLDAYEVENT:FALSE
SUMMARY:Trivia Night at Big Top Brewer's Collective
DESCRIPTION:Put your knowledge to the test at Trivia Night and try to win some free beer and prizes. Starts at 6:30pm!
X-ALT-DESC;FMTTYPE=text/html:<span style="font-size:14px\;"><span style="color:#000000\;"><span style="font-family: Helvetica\, Arial\, sans-serif\; white-space: pre-wrap\;">Put your knowledge to the test at Trivia Night and try to win some free beer and prizes. Starts at 6:30pm!</span><span style="font-family: Helvetica\, Arial\, sans-serif\; white-space: pre-wrap\;"> </span></span></span>
LOCATION:Big Top Collective 2507 Lakewood Ranch Blvd\, Bradenton
UID:e.2475.39346
SEQUENCE:3
DTSTAMP:20260419T201510Z
URL:https://business.manateechamber.com/events/details/trivia-night-at-big-top-brewer-s-collective-08-30-2022-39346
END:VEVENT

END:VCALENDAR
