BEGIN:VCALENDAR
VERSION:2.0
PRODID:-//ChamberMaster//Event Calendar 2.0//EN
METHOD:PUBLISH
X-PUBLISHED-TTL:P3D
REFRESH-INTERVAL:P3D
CALSCALE:GREGORIAN
BEGIN:VEVENT
DTSTART;VALUE=DATE:20220813
DTEND;VALUE=DATE:20220814
TRANSP:TRANSPARENT
X-MICROSOFT-CDO-ALLDAYEVENT:TRUE
SUMMARY:Trolly For Peace
DESCRIPTION:Trolley for Peace.\n\nBenefiting Ukraine Relief through The Rotary of Anna Maria Island\, Florida\n\nHosted by Slicker's Eatery\, Clancy's Irish Sports Bar\, RJ Gators and 88Live Piano Bar.\n\nThese 4 Bars are joining together for this Epic Event for Peace.\n\nEvent starts at 1:00 on August 13th The Peace Trolley will take us to each location. Each location has a Basket of cheer which they will be selling raffle tickets for up until the day of the Event. So please stop by Clancy's\, Gator's\, Slicker's and 88Live Piano Bar this next month and get your raffle tickets\, remember each spot has its own basket worth upwards of $1000. The schedule of Events will be listed below so if you can't get on the Trolley just stop at your favorite pub for the drawing and other surprises. \n\nSign up(at Slicker's) begins for the Peace Trolley on a first come first $$ basis on July 15th but remember if the Trolley gets filled just meet us at one or all of the participating Bars. Event schedule: 1:00 RJ Gators 2:00 Clancy's 3:00 Slicker's Eatery 4:30 88 Live Piano Bar
X-ALT-DESC;FMTTYPE=text/html:<strong><span style="color:#2F5597\;"><span style="font-family:times new roman\,serif\;"><span style="font-size:12.0pt\;">Trolley for Peace.</span></span></span></strong><br />\n<span style="color:#2F5597\;"><span style="font-family:times new roman\,serif\;"><span style="font-size:12.0pt\;">Benefiting Ukraine Relief through The Rotary of Anna Maria Island\, Florida</span></span></span><br />\n<span style="color:#2F5597\;"><span style="font-family:times new roman\,serif\;"><span style="font-size:12.0pt\;">Hosted by Slicker&#39\;s Eatery\, Clancy&#39\;s Irish Sports Bar\, RJ Gators and 88Live Piano Bar.</span></span></span><br />\n<span style="color:#2F5597\;"><span style="font-family:times new roman\,serif\;"><span style="font-size:12.0pt\;">These 4 Bars are joining together for this Epic Event for Peace.</span></span></span><br />\n<span style="color:#2F5597\;"><span style="font-family:times new roman\,serif\;"><span style="font-size:12.0pt\;">Event starts at 1:00 on August 13th The Peace Trolley will take us to each location. Each location has a Basket of cheer which they will be selling raffle tickets for up until the day of the Event. So please stop by Clancy&#39\;s\, Gator&#39\;s\, Slicker&#39\;s and 88Live Piano Bar this next month and get your raffle tickets\, remember each spot has its own basket worth upwards of $1000. The schedule of Events will be listed below so if you can&#39\;t get on the Trolley just stop at your favorite pub for the drawing and other surprises. </span></span></span><br />\n<span style="color:#2F5597\;"><span style="font-family:times new roman\,serif\;"><span style="font-size:12.0pt\;">Sign up(at Slicker&#39\;s) begins for the Peace Trolley on a first come first $$ basis on July 15th but remember if the Trolley gets filled just meet us at one or all of the participating Bars. Event schedule: 1:00 RJ Gators 2:00 Clancy&#39\;s 3:00 Slicker&#39\;s Eatery 4:30 88 Live Piano Bar</span></span></span>
LOCATION:
UID:e.2475.40186
SEQUENCE:3
DTSTAMP:20260419T193606Z
URL:https://business.manateechamber.com/events/details/trolly-for-peace-40186
END:VEVENT

END:VCALENDAR
