BEGIN:VCALENDAR
VERSION:2.0
PRODID:-//ChamberMaster//Event Calendar 2.0//EN
METHOD:PUBLISH
X-PUBLISHED-TTL:P3D
REFRESH-INTERVAL:P3D
CALSCALE:GREGORIAN
BEGIN:VEVENT
DTSTART;VALUE=DATE:20210607
DTEND;VALUE=DATE:20210612
TRANSP:TRANSPARENT
X-MICROSOFT-CDO-ALLDAYEVENT:TRUE
SUMMARY:Troy University's Virtual Graduate Fairs
DESCRIPTION:Troy University's Virtual Graduate Fairs feature webinars discussing various graduate programs\, giving you the opportunity to learn more about what program is best for you. Past webinars have discussed master's programs in criminal justice\, business\, strategic communication\, applied behavior analysis\, education\, global leadership\, counseling\, psychology\, and more. You can view some of these webinars below.\n\nWe hope that you will join us for the next Virtual Graduate Fair on June 7-11\, 2021!
X-ALT-DESC;FMTTYPE=text/html:<p>Troy University&#39\;s Virtual Graduate Fairs feature webinars discussing various graduate programs\, giving you the opportunity to learn more about what program is best for you. Past webinars have discussed master&#39\;s programs in criminal justice\, business\, strategic communication\, applied behavior analysis\, education\, global leadership\, counseling\, psychology\, and more. You can view some of these webinars below.</p>\n\n<p>We hope that you will join us for the next Virtual Graduate Fair on June 7-11\, 2021!</p>\n
LOCATION:Virtual - Online
UID:e.2475.32016
SEQUENCE:3
DTSTAMP:20260423T142256Z
URL:https://business.manateechamber.com/events/details/troy-university-s-virtual-graduate-fairs-32016
END:VEVENT

END:VCALENDAR
