BEGIN:VCALENDAR
VERSION:2.0
PRODID:-//ChamberMaster//Event Calendar 2.0//EN
METHOD:PUBLISH
X-PUBLISHED-TTL:P3D
REFRESH-INTERVAL:P3D
CALSCALE:GREGORIAN
BEGIN:VEVENT
DTSTART:20200416T230000Z
DTEND:20200417T000000Z
X-MICROSOFT-CDO-ALLDAYEVENT:FALSE
SUMMARY:Validating the Afterlife: Messages of Hope and Love
DESCRIPTION:
X-ALT-DESC;FMTTYPE=text/html:
LOCATION:373 Braden Ave. Sarasota\, FL 34243
UID:e.2475.28347
SEQUENCE:3
DTSTAMP:20260421T234744Z
URL:https://business.manateechamber.com/events/details/validating-the-afterlife-messages-of-hope-and-love-28347
END:VEVENT

END:VCALENDAR
