BEGIN:VCALENDAR
VERSION:2.0
PRODID:-//ChamberMaster//Event Calendar 2.0//EN
METHOD:PUBLISH
X-PUBLISHED-TTL:P3D
REFRESH-INTERVAL:P3D
CALSCALE:GREGORIAN
BEGIN:VEVENT
DTSTART:20191111T180000Z
DTEND:20191112T010000Z
X-MICROSOFT-CDO-ALLDAYEVENT:FALSE
SUMMARY:Veterans Day at Caddy's Bradenton
DESCRIPTION:Honor those who serve and have served this Veterans Day!\n\n\n\nJoin us Monday\, November 11th and celebrate Veterans and Active Military \n\n\n\nFREE Entree for Veterans & Active Military personnel
X-ALT-DESC;FMTTYPE=text/html:<span style="color:rgb(29\, 33\, 41)\; font-family:system-ui\,-apple-system\,system-ui\,.sfnstext-regular\,sans-serif\; font-size:14px">Honor those who serve and have served this Veterans Day!</span><br />\n<br />\n<span style="color:rgb(29\, 33\, 41)\; font-family:system-ui\,-apple-system\,system-ui\,.sfnstext-regular\,sans-serif\; font-size:14px">Join us Monday\, November 11th and celebrate Veterans and Active Military&nbsp\;</span><br />\n<br />\n<span style="color:rgb(29\, 33\, 41)\; font-family:system-ui\,-apple-system\,system-ui\,.sfnstext-regular\,sans-serif\; font-size:14px">FREE Entree for Veterans &amp\; Active Military personnel</span>
LOCATION:Caddy's Bradenton
UID:e.2475.27395
SEQUENCE:3
DTSTAMP:20260420T091406Z
URL:https://business.manateechamber.com/events/details/veterans-day-at-caddy-s-bradenton-27395
END:VEVENT

END:VCALENDAR
