BEGIN:VCALENDAR
VERSION:2.0
PRODID:-//ChamberMaster//Event Calendar 2.0//EN
METHOD:PUBLISH
X-PUBLISHED-TTL:P3D
REFRESH-INTERVAL:P3D
CALSCALE:GREGORIAN
BEGIN:VEVENT
DTSTART:20190129T150000Z
DTEND:20190129T230000Z
X-MICROSOFT-CDO-ALLDAYEVENT:FALSE
SUMMARY:Waterline Marina Resort Job Fair
DESCRIPTION:HOSPITALITY JOB FAIR  AT WATERLINE MARINA RESORT & BEACH CLUB ON HOLMES BEACH\, FLORIDA\n\n\n\nTUESDAY\, JANUARY 29th\, 10 AM - 6PM\, PLIMSOLL BALLROOM\n\n\n\nVIEW OPEN POSITIONS & APPLY ONLINE AT MAINSAILHOTELS.COM/CAREERS
X-ALT-DESC;FMTTYPE=text/html:HOSPITALITY JOB FAIR &nbsp\;AT WATERLINE MARINA RESORT &amp\; BEACH CLUB ON HOLMES BEACH\, FLORIDA<br />\n<br />\nTUESDAY\,&nbsp\;JANUARY 29th\, 10 AM&nbsp\;- 6PM\, PLIMSOLL BALLROOM<br />\n<br />\nVIEW OPEN POSITIONS &amp\; APPLY ONLINE AT MAINSAILHOTELS.COM/CAREERS<br />\n<br />\n<br />\n<br />\n&nbsp\;
LOCATION:WATERLINE MARINA RESORT & BEACH CLUB 5325 MARINA DRIVE HOLMES BEACH\, FLORIDA 34217
UID:e.2475.24656
SEQUENCE:3
DTSTAMP:20260423T150813Z
URL:https://business.manateechamber.com/events/details/waterline-marina-resort-job-fair-24656
END:VEVENT

END:VCALENDAR
