BEGIN:VCALENDAR
VERSION:2.0
PRODID:-//ChamberMaster//Event Calendar 2.0//EN
METHOD:PUBLISH
X-PUBLISHED-TTL:P3D
REFRESH-INTERVAL:P3D
CALSCALE:GREGORIAN
BEGIN:VEVENT
DTSTART:20220512T160000Z
DTEND:20220512T170000Z
X-MICROSOFT-CDO-ALLDAYEVENT:FALSE
SUMMARY:Webinar: What you need to know about Medicare
DESCRIPTION:Whether you are still employed or retired\, this will be one of the most confusing decisions you will have to make\, and the impacts can last a lifetime.\n\nI explain the every-changing Medicare landscape\, the differences between group and individual plans\, and will help you evaluate which choice (including you current/former employer plan) is the best option for you. \n\nIn our Medicare Webinar we will discuss your healthcare coverage and options.\n\nYou will learn:\n\n    *How Medicare works and important definitions\n\n    *Must know penalties and deadlines\n\n    *Medicare Parts A & B\n\n    *Medicare Advantage Plans (Part C)\n\n    *Medicare Prescription Drug Plans (Part D)\n\n    *Medicare Supplement Plans (Medigap)\n\nThis is an educational event hosted by Baacke Insurance & Financial Services
X-ALT-DESC;FMTTYPE=text/html:Whether you are still employed or retired\, this will be one of the most confusing decisions you will have to make\, and the impacts can last a lifetime.<br />\nI explain the every-changing Medicare landscape\, the differences between group and individual plans\, and will help you evaluate which choice (including you current/former employer plan) is the best option for you.&nbsp\;<br />\nIn our Medicare Webinar we will discuss your healthcare coverage and options.<br />\nYou will learn:<br />\n&nbsp\; &nbsp\; *How Medicare works and important definitions<br />\n&nbsp\; &nbsp\; *Must know penalties and deadlines<br />\n&nbsp\; &nbsp\; *Medicare Parts A &amp\; B<br />\n&nbsp\; &nbsp\; *Medicare Advantage Plans (Part C)<br />\n&nbsp\; &nbsp\; *Medicare Prescription Drug Plans (Part D)<br />\n&nbsp\; &nbsp\; *Medicare Supplement Plans (Medigap)<br />\nThis is an educational event hosted by Baacke Insurance &amp\; Financial Services
LOCATION:https://webinar.getresponse.com/wiL0Y/what-you-need-to-know-about-medicare/?_ga=2.29258620.1554435225.1650998946-419984209.1646766199 Please click the link\, or copy and paste it to your browser\, then enter your information. A link to the webinar will be sent to your email once you are registered. If you have any questions or need assistance please do not hesitate to call: (941)907-4300 and ask for Crystal or Lisa
UID:e.2475.35400
SEQUENCE:3
DTSTAMP:20260422T141048Z
URL:https://business.manateechamber.com/events/details/webinar-what-you-need-to-know-about-medicare-35400
END:VEVENT

END:VCALENDAR
