BEGIN:VCALENDAR
VERSION:2.0
PRODID:-//ChamberMaster//Event Calendar 2.0//EN
METHOD:PUBLISH
X-PUBLISHED-TTL:P3D
REFRESH-INTERVAL:P3D
CALSCALE:GREGORIAN
BEGIN:VEVENT
DTSTART:20220728T213000Z
DTEND:20220729T000000Z
X-MICROSOFT-CDO-ALLDAYEVENT:FALSE
SUMMARY:Who is NAHREP?
DESCRIPTION:Come and join us to learn all about NAHREP and how you can empower yourself and your community. Network with us and see how we can help each other and our businesses.  Appetizers and drinks will be provided. Click the website link to register.
X-ALT-DESC;FMTTYPE=text/html:Come and join us to learn all about NAHREP and how you can empower yourself and your community. Network with us and see how we can help each other and our businesses. &nbsp\;Appetizers and drinks will be provided. Click the website link to register.
LOCATION:Sarasota City Center 1819 Main Street Sarasota\, Florida 34236
UID:e.2475.39309
SEQUENCE:3
DTSTAMP:20260422T161538Z
URL:https://business.manateechamber.com/events/details/who-is-nahrep-39309
END:VEVENT

END:VCALENDAR
