BEGIN:VCALENDAR
VERSION:2.0
PRODID:-//ChamberMaster//Event Calendar 2.0//EN
METHOD:PUBLISH
X-PUBLISHED-TTL:P3D
REFRESH-INTERVAL:P3D
CALSCALE:GREGORIAN
BEGIN:VEVENT
DTSTART:20220803T220000Z
DTEND:20220804T020000Z
X-MICROSOFT-CDO-ALLDAYEVENT:FALSE
SUMMARY:Wines Around The World: New York
DESCRIPTION:Join us in our ballroom as we take you on a tour around the world featuring our favorite wineries and light bites to complement them. Your ticket includes 4 unique wine samples paired with light hors d'oeuvres. Additional tax & gratuity will be added to your total.\n\n\n\nTicket: $25 per person (plus tax and gratuity)\n\n\n\nWines & Pairings\n\nForge Cellars Riesling | Broccoli & Apple Salad\n\nHillick and Hobbs Riesling | Pork Belly with Apple Puree\n\nWolffer Estate White | Sliced Brie with Fig\n\nWolffer Estate Summer in a Bottle Rose | Lamb on Polenta Cake with Balsamic
X-ALT-DESC;FMTTYPE=text/html:<span style="font-family:tahoma\;"><span style="box-sizing: border-box\; color: rgb(68\, 68\, 68)\; font-size: 16px\; text-align: center\;">Join us in our ballroom as we take you on a tour around the world featuring our favorite wineries and light bites to complement them. Your ticket includes 4 unique wine samples paired with light hors d&#39\;oeuvres. Additional tax &amp\; gratuity will be added to&nbsp\;your&nbsp\;total.</span><br style="box-sizing: border-box\;" />\n<br style="box-sizing: border-box\;" />\n<span style="box-sizing: border-box\; color: rgb(68\, 68\, 68)\; font-size: 16px\; text-align: center\;"><strong>Ticket:</strong> $25 per person (plus tax&nbsp\;and&nbsp\;gratuity)</span><br style="box-sizing: border-box\;" />\n<br style="box-sizing: border-box\;" />\n<strong><span style="box-sizing: border-box\; color: rgb(68\, 68\, 68)\; font-size: 16px\; text-align: center\;">Wines &amp\; Pairings</span></strong><br style="box-sizing: border-box\;" />\n<span style="box-sizing: border-box\; color: rgb(68\, 68\, 68)\; font-size: 16px\; text-align: center\;">Forge Cellars Riesling | Broccoli &amp\;&nbsp\;Apple&nbsp\;Salad</span><br style="box-sizing: border-box\;" />\n<span style="box-sizing: border-box\; color: rgb(68\, 68\, 68)\; font-size: 16px\; text-align: center\;">Hillick and Hobbs Riesling | Pork Belly with&nbsp\;Apple&nbsp\;Puree</span><br style="box-sizing: border-box\;" />\n<span style="box-sizing: border-box\; color: rgb(68\, 68\, 68)\; font-size: 16px\; text-align: center\;">Wolffer Estate White | Sliced Brie&nbsp\;with&nbsp\;Fig</span><br style="box-sizing: border-box\;" />\n<span style="box-sizing: border-box\; color: rgb(68\, 68\, 68)\; font-size: 16px\; text-align: center\;">Wolffer Estate Summer in a Bottle Rose | Lamb on Polenta Cake with Balsamic&nbsp\;&nbsp\;</span></span>
LOCATION:Grove 10670 Boardwalk Loop Lakewood Ranch\, FL 34202
UID:e.2475.37596
SEQUENCE:3
DTSTAMP:20260419T195712Z
URL:https://business.manateechamber.com/events/details/wines-around-the-world-new-york-37596
END:VEVENT

END:VCALENDAR
