BEGIN:VCALENDAR
VERSION:2.0
PRODID:-//ChamberMaster//Event Calendar 2.0//EN
METHOD:PUBLISH
X-PUBLISHED-TTL:P3D
REFRESH-INTERVAL:P3D
CALSCALE:GREGORIAN
BEGIN:VEVENT
DTSTART:20250609T140000Z
DTEND:20250614T160000Z
X-MICROSOFT-CDO-ALLDAYEVENT:FALSE
SUMMARY:World Oceans Week 2025
DESCRIPTION:Celebrate World Oceans Week with Mote! Sunday\, June 8 is World Oceans Day and we're celebrating the beauty of our Blue Planet all week long. Monday\, June 9   Saturday\, June 14 enjoy educational activities and events at Mote Aquarium highlighting our marine ecosystems and the research Mote is doing to conserve them. ?? Monday\, June 9: World Oceans Week Virtual Exploration ?? Tuesday\, June 10: Coral 101 with Mote's Coral Scientists ?? Wednesday\, June 11: Make Waves not Waste ??Thursday\, June 12: The Otters Tour: Watershed Day Celebration ?? Friday\, June 13: Manatee Appreciation Day ?? Saturday\, June 14: Sea to Shore Clean and Explore Closing out the week on Saturday\, June 14\, join us for Sea to Shore: Clean & Explore\, a free\, family-friendly celebration of community conservation. Help protect our coastlines through hands-on cleanup and enjoy a morning of education\, eco-exhibits and youth-led environmental projects.
X-ALT-DESC;FMTTYPE=text/html:Celebrate World Oceans Week with Mote! Sunday\, June 8 is World Oceans Day and we&#39\;re celebrating the beauty of our Blue Planet all week long. Monday\, June 9 &mdash\; Saturday\, June 14 enjoy educational activities and events at Mote Aquarium highlighting our marine ecosystems and the research Mote is doing to conserve them. ?? Monday\, June 9: World Oceans Week Virtual Exploration ?? Tuesday\, June 10: Coral 101 with Mote&#39\;s Coral Scientists ?? Wednesday\, June 11: Make Waves not Waste ??Thursday\, June 12: The Otters Tour: Watershed Day Celebration ?? Friday\, June 13: Manatee Appreciation Day ?? Saturday\, June 14: Sea to Shore Clean and Explore Closing out the week on Saturday\, June 14\, join us for Sea to Shore: Clean &amp\; Explore\, a free\, family-friendly celebration of community conservation. Help protect our coastlines through hands-on cleanup and enjoy a morning of education\, eco-exhibits and youth-led environmental projects.
LOCATION:Mote Marine Laboratory & Aquarium
UID:e.2475.50811
SEQUENCE:3
DTSTAMP:20260420T102604Z
URL:https://business.manateechamber.com/events/details/world-oceans-week-2025-06-09-2025-50811
END:VEVENT

END:VCALENDAR
