BEGIN:VCALENDAR
VERSION:2.0
PRODID:-//ChamberMaster//Event Calendar 2.0//EN
METHOD:PUBLISH
X-PUBLISHED-TTL:P3D
REFRESH-INTERVAL:P3D
CALSCALE:GREGORIAN
BEGIN:VEVENT
DTSTART:20200421T170000Z
DTEND:20200421T180500Z
X-MICROSOFT-CDO-ALLDAYEVENT:FALSE
SUMMARY:Your Relationship with Money Webinar
DESCRIPTION:Come learn about how your financial mindset affects your financial future from Edward Jones panelist Kit Sundararaman\, Ken Cella\, And Kate Warchoi. They'll help you identify your mindsets and how to position them to help you achieve your financial goals.
X-ALT-DESC;FMTTYPE=text/html:Come learn about how your financial mindset affects your financial future from Edward Jones panelist Kit Sundararaman\, Ken Cella\, And Kate Warchoi. They&#39\;ll help you identify your mindsets and how to position them to help you achieve your financial goals.
LOCATION:
UID:e.2475.28949
SEQUENCE:3
DTSTAMP:20260421T234306Z
URL:https://business.manateechamber.com/events/details/your-relationship-with-money-webinar-28949
END:VEVENT

END:VCALENDAR
